BEGIN:VCALENDAR
VERSION:2.0
PRODID:-//Grundschule Fischbeck - ECPv6.15.20//NONSGML v1.0//EN
CALSCALE:GREGORIAN
METHOD:PUBLISH
X-ORIGINAL-URL:https://www.gs-fischbeck.de
X-WR-CALDESC:Veranstaltungen für Grundschule Fischbeck
REFRESH-INTERVAL;VALUE=DURATION:PT1H
X-Robots-Tag:noindex
X-PUBLISHED-TTL:PT1H
BEGIN:VTIMEZONE
TZID:Europe/Berlin
BEGIN:DAYLIGHT
TZOFFSETFROM:+0100
TZOFFSETTO:+0200
TZNAME:CEST
DTSTART:20240331T010000
END:DAYLIGHT
BEGIN:STANDARD
TZOFFSETFROM:+0200
TZOFFSETTO:+0100
TZNAME:CET
DTSTART:20241027T010000
END:STANDARD
BEGIN:DAYLIGHT
TZOFFSETFROM:+0100
TZOFFSETTO:+0200
TZNAME:CEST
DTSTART:20250330T010000
END:DAYLIGHT
BEGIN:STANDARD
TZOFFSETFROM:+0200
TZOFFSETTO:+0100
TZNAME:CET
DTSTART:20251026T010000
END:STANDARD
BEGIN:DAYLIGHT
TZOFFSETFROM:+0100
TZOFFSETTO:+0200
TZNAME:CEST
DTSTART:20260329T010000
END:DAYLIGHT
BEGIN:STANDARD
TZOFFSETFROM:+0200
TZOFFSETTO:+0100
TZNAME:CET
DTSTART:20261025T010000
END:STANDARD
END:VTIMEZONE
BEGIN:VEVENT
DTSTART;VALUE=DATE:20250507
DTEND;VALUE=DATE:20250508
DTSTAMP:20260421T032439
CREATED:20240903T064014Z
LAST-MODIFIED:20240903T065501Z
UID:7455-1746576000-1746662399@www.gs-fischbeck.de
SUMMARY:Ghana-Frühstück 1a
DESCRIPTION:
URL:https://www.gs-fischbeck.de/veranstaltung/ghana-fruehstueck-1a/
ATTACH;FMTTYPE=image/jpeg:https://www.gs-fischbeck.de/wp-content/uploads/2024/09/map-1019801_640.jpg
END:VEVENT
BEGIN:VEVENT
DTSTART;VALUE=DATE:20250512
DTEND;VALUE=DATE:20250513
DTSTAMP:20260421T032439
CREATED:20240903T064014Z
LAST-MODIFIED:20240903T064018Z
UID:7456-1747008000-1747094399@www.gs-fischbeck.de
SUMMARY:Methodentag
DESCRIPTION:
URL:https://www.gs-fischbeck.de/veranstaltung/methodentag-3/
END:VEVENT
END:VCALENDAR