BEGIN:VCALENDAR
VERSION:2.0
PRODID:-//Grundschule Fischbeck - ECPv6.15.20//NONSGML v1.0//EN
CALSCALE:GREGORIAN
METHOD:PUBLISH
X-ORIGINAL-URL:https://www.gs-fischbeck.de
X-WR-CALDESC:Veranstaltungen für Grundschule Fischbeck
REFRESH-INTERVAL;VALUE=DURATION:PT1H
X-Robots-Tag:noindex
X-PUBLISHED-TTL:PT1H
BEGIN:VTIMEZONE
TZID:Europe/Berlin
BEGIN:DAYLIGHT
TZOFFSETFROM:+0100
TZOFFSETTO:+0200
TZNAME:CEST
DTSTART:20240331T010000
END:DAYLIGHT
BEGIN:STANDARD
TZOFFSETFROM:+0200
TZOFFSETTO:+0100
TZNAME:CET
DTSTART:20241027T010000
END:STANDARD
BEGIN:DAYLIGHT
TZOFFSETFROM:+0100
TZOFFSETTO:+0200
TZNAME:CEST
DTSTART:20250330T010000
END:DAYLIGHT
BEGIN:STANDARD
TZOFFSETFROM:+0200
TZOFFSETTO:+0100
TZNAME:CET
DTSTART:20251026T010000
END:STANDARD
BEGIN:DAYLIGHT
TZOFFSETFROM:+0100
TZOFFSETTO:+0200
TZNAME:CEST
DTSTART:20260329T010000
END:DAYLIGHT
BEGIN:STANDARD
TZOFFSETFROM:+0200
TZOFFSETTO:+0100
TZNAME:CET
DTSTART:20261025T010000
END:STANDARD
END:VTIMEZONE
BEGIN:VEVENT
DTSTART;VALUE=DATE:20250303
DTEND;VALUE=DATE:20250304
DTSTAMP:20260421T070348
CREATED:20240903T064013Z
LAST-MODIFIED:20240903T064017Z
UID:7450-1740960000-1741046399@www.gs-fischbeck.de
SUMMARY:Fasching
DESCRIPTION:
URL:https://www.gs-fischbeck.de/veranstaltung/fasching/
END:VEVENT
BEGIN:VEVENT
DTSTART;VALUE=DATE:20250312
DTEND;VALUE=DATE:20250313
DTSTAMP:20260421T070348
CREATED:20240903T064013Z
LAST-MODIFIED:20240903T065653Z
UID:7451-1741737600-1741823999@www.gs-fischbeck.de
SUMMARY:Ghana-Frühstück 1b
DESCRIPTION:
URL:https://www.gs-fischbeck.de/veranstaltung/ghana-fruehstueck-1b/
ATTACH;FMTTYPE=image/jpeg:https://www.gs-fischbeck.de/wp-content/uploads/2024/09/map-1019801_640.jpg
END:VEVENT
BEGIN:VEVENT
DTSTART;TZID=Europe/Berlin:20250313T150000
DTEND;TZID=Europe/Berlin:20250313T180000
DTSTAMP:20260421T070348
CREATED:20240903T064013Z
LAST-MODIFIED:20240903T065236Z
UID:7452-1741878000-1741888800@www.gs-fischbeck.de
SUMMARY:Elternsprechtag 1.-3. Klassen
DESCRIPTION:
URL:https://www.gs-fischbeck.de/veranstaltung/elternsprechtag-1-3-klassen/
ATTACH;FMTTYPE=image/jpeg:https://www.gs-fischbeck.de/wp-content/uploads/2024/09/meeting-1019768_640.jpg
END:VEVENT
BEGIN:VEVENT
DTSTART;VALUE=DATE:20250324
DTEND;VALUE=DATE:20250329
DTSTAMP:20260421T070348
CREATED:20240903T064013Z
LAST-MODIFIED:20240903T064017Z
UID:7453-1742774400-1743206399@www.gs-fischbeck.de
SUMMARY:Vorlesewettbewerb
DESCRIPTION:
URL:https://www.gs-fischbeck.de/veranstaltung/vorlesewettbewerb/
END:VEVENT
END:VCALENDAR