BEGIN:VCALENDAR
VERSION:2.0
PRODID:-//Grundschule Fischbeck - ECPv6.15.20//NONSGML v1.0//EN
CALSCALE:GREGORIAN
METHOD:PUBLISH
X-WR-CALNAME:Grundschule Fischbeck
X-ORIGINAL-URL:https://www.gs-fischbeck.de
X-WR-CALDESC:Veranstaltungen für Grundschule Fischbeck
REFRESH-INTERVAL;VALUE=DURATION:PT1H
X-Robots-Tag:noindex
X-PUBLISHED-TTL:PT1H
BEGIN:VTIMEZONE
TZID:Europe/Berlin
BEGIN:DAYLIGHT
TZOFFSETFROM:+0100
TZOFFSETTO:+0200
TZNAME:CEST
DTSTART:20240331T010000
END:DAYLIGHT
BEGIN:STANDARD
TZOFFSETFROM:+0200
TZOFFSETTO:+0100
TZNAME:CET
DTSTART:20241027T010000
END:STANDARD
BEGIN:DAYLIGHT
TZOFFSETFROM:+0100
TZOFFSETTO:+0200
TZNAME:CEST
DTSTART:20250330T010000
END:DAYLIGHT
BEGIN:STANDARD
TZOFFSETFROM:+0200
TZOFFSETTO:+0100
TZNAME:CET
DTSTART:20251026T010000
END:STANDARD
BEGIN:DAYLIGHT
TZOFFSETFROM:+0100
TZOFFSETTO:+0200
TZNAME:CEST
DTSTART:20260329T010000
END:DAYLIGHT
BEGIN:STANDARD
TZOFFSETFROM:+0200
TZOFFSETTO:+0100
TZNAME:CET
DTSTART:20261025T010000
END:STANDARD
END:VTIMEZONE
BEGIN:VEVENT
DTSTART;VALUE=DATE:20250115
DTEND;VALUE=DATE:20250116
DTSTAMP:20260421T100938
CREATED:20240903T064012Z
LAST-MODIFIED:20240903T065552Z
UID:7445-1736899200-1736985599@www.gs-fischbeck.de
SUMMARY:Ghana-Frühstück 2b
DESCRIPTION:
URL:https://www.gs-fischbeck.de/veranstaltung/ghana-fruehstueck-2b/
ATTACH;FMTTYPE=image/jpeg:https://www.gs-fischbeck.de/wp-content/uploads/2024/09/map-1019801_640.jpg
END:VEVENT
BEGIN:VEVENT
DTSTART;TZID=Europe/Berlin:20250122T150000
DTEND;TZID=Europe/Berlin:20250122T170000
DTSTAMP:20260421T100938
CREATED:20240710T203220Z
LAST-MODIFIED:20240903T064016Z
UID:7407-1737558000-1737565200@www.gs-fischbeck.de
SUMMARY:Zeugniskonferenz
DESCRIPTION:
URL:https://www.gs-fischbeck.de/veranstaltung/zeugniskonferenz/
ATTACH;FMTTYPE=image/png:https://www.gs-fischbeck.de/wp-content/uploads/2024/07/meeting-152506_1280.png
END:VEVENT
END:VCALENDAR