BEGIN:VCALENDAR
VERSION:2.0
PRODID:-//Grundschule Fischbeck - ECPv6.15.20//NONSGML v1.0//EN
CALSCALE:GREGORIAN
METHOD:PUBLISH
X-ORIGINAL-URL:https://www.gs-fischbeck.de
X-WR-CALDESC:Veranstaltungen für Grundschule Fischbeck
REFRESH-INTERVAL;VALUE=DURATION:PT1H
X-Robots-Tag:noindex
X-PUBLISHED-TTL:PT1H
BEGIN:VTIMEZONE
TZID:Europe/Berlin
BEGIN:DAYLIGHT
TZOFFSETFROM:+0100
TZOFFSETTO:+0200
TZNAME:CEST
DTSTART:20230326T010000
END:DAYLIGHT
BEGIN:STANDARD
TZOFFSETFROM:+0200
TZOFFSETTO:+0100
TZNAME:CET
DTSTART:20231029T010000
END:STANDARD
BEGIN:DAYLIGHT
TZOFFSETFROM:+0100
TZOFFSETTO:+0200
TZNAME:CEST
DTSTART:20240331T010000
END:DAYLIGHT
BEGIN:STANDARD
TZOFFSETFROM:+0200
TZOFFSETTO:+0100
TZNAME:CET
DTSTART:20241027T010000
END:STANDARD
BEGIN:DAYLIGHT
TZOFFSETFROM:+0100
TZOFFSETTO:+0200
TZNAME:CEST
DTSTART:20250330T010000
END:DAYLIGHT
BEGIN:STANDARD
TZOFFSETFROM:+0200
TZOFFSETTO:+0100
TZNAME:CET
DTSTART:20251026T010000
END:STANDARD
END:VTIMEZONE
BEGIN:VEVENT
DTSTART;VALUE=DATE:20240904
DTEND;VALUE=DATE:20240905
DTSTAMP:20260421T162845
CREATED:20240903T064010Z
LAST-MODIFIED:20240903T065819Z
UID:7428-1725408000-1725494399@www.gs-fischbeck.de
SUMMARY:Ghana-Frühstück 4b
DESCRIPTION:
URL:https://www.gs-fischbeck.de/veranstaltung/ghana-fruehstueck-4b/
ATTACH;FMTTYPE=image/jpeg:https://www.gs-fischbeck.de/wp-content/uploads/2024/09/map-1019801_640.jpg
END:VEVENT
BEGIN:VEVENT
DTSTART;TZID=Europe/Berlin:20240909T180000
DTEND;TZID=Europe/Berlin:20240909T220000
DTSTAMP:20260421T162845
CREATED:20240903T064010Z
LAST-MODIFIED:20240903T064010Z
UID:7432-1725904800-1725919200@www.gs-fischbeck.de
SUMMARY:Ortsratssitzung
DESCRIPTION:
URL:https://www.gs-fischbeck.de/veranstaltung/ortsratssitzung-2/
END:VEVENT
BEGIN:VEVENT
DTSTART;TZID=Europe/Berlin:20240910T180000
DTEND;TZID=Europe/Berlin:20240910T200000
DTSTAMP:20260421T162845
CREATED:20240903T064011Z
LAST-MODIFIED:20240903T064923Z
UID:7434-1725991200-1725998400@www.gs-fischbeck.de
SUMMARY:Elternabend 2b Reichelt
DESCRIPTION:
URL:https://www.gs-fischbeck.de/veranstaltung/elternabend-2b-reichelt-2/
ATTACH;FMTTYPE=image/jpeg:https://www.gs-fischbeck.de/wp-content/uploads/2024/09/happy-1082921_1280.jpg
END:VEVENT
BEGIN:VEVENT
DTSTART;TZID=Europe/Berlin:20240927T150000
DTEND;TZID=Europe/Berlin:20240927T170000
DTSTAMP:20260421T162845
CREATED:20240710T203219Z
LAST-MODIFIED:20240903T064015Z
UID:7406-1727449200-1727456400@www.gs-fischbeck.de
SUMMARY:Apfelfest
DESCRIPTION:
URL:https://www.gs-fischbeck.de/veranstaltung/apfelfest/
ATTACH;FMTTYPE=image/png:https://www.gs-fischbeck.de/wp-content/uploads/2024/07/harvest-8694055_640.png
END:VEVENT
END:VCALENDAR